BEGIN:VCALENDAR
VERSION:2.0
PRODID:-//Friendship Public Charter School - ECPv6.15.17.1//NONSGML v1.0//EN
CALSCALE:GREGORIAN
METHOD:PUBLISH
X-WR-CALNAME:Friendship Public Charter School
X-ORIGINAL-URL:https://www.friendshipschools.org
X-WR-CALDESC:Events for Friendship Public Charter School
REFRESH-INTERVAL;VALUE=DURATION:PT1H
X-Robots-Tag:noindex
X-PUBLISHED-TTL:PT1H
BEGIN:VTIMEZONE
TZID:UTC
BEGIN:STANDARD
TZOFFSETFROM:+0000
TZOFFSETTO:+0000
TZNAME:UTC
DTSTART:20220101T000000
END:STANDARD
END:VTIMEZONE
BEGIN:VEVENT
DTSTART;TZID=UTC:20230502T080000
DTEND;TZID=UTC:20230504T170000
DTSTAMP:20260424T031230
CREATED:20200721T202638Z
LAST-MODIFIED:20200727T175129Z
UID:10005234-1683014400-1683219600@www.friendshipschools.org
SUMMARY:Self-paced Professional Development for Friendship Team Members
DESCRIPTION:
URL:https://www.friendshipschools.org/event/self-paced-professional-development-for-friendship-team-members/2023-05-02/
END:VEVENT
BEGIN:VEVENT
DTSTART;TZID=UTC:20230501T080000
DTEND;TZID=UTC:20230503T170000
DTSTAMP:20260424T031230
CREATED:20200721T202638Z
LAST-MODIFIED:20200727T175129Z
UID:10005233-1682928000-1683133200@www.friendshipschools.org
SUMMARY:Self-paced Professional Development for Friendship Team Members
DESCRIPTION:
URL:https://www.friendshipschools.org/event/self-paced-professional-development-for-friendship-team-members/2023-05-01/
END:VEVENT
BEGIN:VEVENT
DTSTART;TZID=UTC:20230430T080000
DTEND;TZID=UTC:20230502T170000
DTSTAMP:20260424T031230
CREATED:20200721T202638Z
LAST-MODIFIED:20200727T175129Z
UID:10005232-1682841600-1683046800@www.friendshipschools.org
SUMMARY:Self-paced Professional Development for Friendship Team Members
DESCRIPTION:
URL:https://www.friendshipschools.org/event/self-paced-professional-development-for-friendship-team-members/2023-04-30/
END:VEVENT
BEGIN:VEVENT
DTSTART;TZID=UTC:20230429T080000
DTEND;TZID=UTC:20230501T170000
DTSTAMP:20260424T031230
CREATED:20200721T202638Z
LAST-MODIFIED:20200727T175129Z
UID:10005231-1682755200-1682960400@www.friendshipschools.org
SUMMARY:Self-paced Professional Development for Friendship Team Members
DESCRIPTION:
URL:https://www.friendshipschools.org/event/self-paced-professional-development-for-friendship-team-members/2023-04-29/
END:VEVENT
BEGIN:VEVENT
DTSTART;TZID=UTC:20230428T080000
DTEND;TZID=UTC:20230430T170000
DTSTAMP:20260424T031230
CREATED:20200721T202638Z
LAST-MODIFIED:20200727T175129Z
UID:10005230-1682668800-1682874000@www.friendshipschools.org
SUMMARY:Self-paced Professional Development for Friendship Team Members
DESCRIPTION:
URL:https://www.friendshipschools.org/event/self-paced-professional-development-for-friendship-team-members/2023-04-28/
END:VEVENT
BEGIN:VEVENT
DTSTART;TZID=UTC:20230428T080000
DTEND;TZID=UTC:20230428T170000
DTSTAMP:20260424T031230
CREATED:20220705T133943Z
LAST-MODIFIED:20220705T133943Z
UID:10004021-1682668800-1682701200@www.friendshipschools.org
SUMMARY:Full Day Friday
DESCRIPTION:
URL:https://www.friendshipschools.org/event/full-day-friday/
END:VEVENT
BEGIN:VEVENT
DTSTART;TZID=UTC:20230427T080000
DTEND;TZID=UTC:20230429T170000
DTSTAMP:20260424T031230
CREATED:20200721T202638Z
LAST-MODIFIED:20200727T175129Z
UID:10005229-1682582400-1682787600@www.friendshipschools.org
SUMMARY:Self-paced Professional Development for Friendship Team Members
DESCRIPTION:
URL:https://www.friendshipschools.org/event/self-paced-professional-development-for-friendship-team-members/2023-04-27/
END:VEVENT
BEGIN:VEVENT
DTSTART;TZID=UTC:20230426T080000
DTEND;TZID=UTC:20230428T170000
DTSTAMP:20260424T031230
CREATED:20200721T202638Z
LAST-MODIFIED:20200727T175129Z
UID:10005228-1682496000-1682701200@www.friendshipschools.org
SUMMARY:Self-paced Professional Development for Friendship Team Members
DESCRIPTION:
URL:https://www.friendshipschools.org/event/self-paced-professional-development-for-friendship-team-members/2023-04-26/
END:VEVENT
BEGIN:VEVENT
DTSTART;TZID=UTC:20230425T080000
DTEND;TZID=UTC:20230427T170000
DTSTAMP:20260424T031230
CREATED:20200721T202638Z
LAST-MODIFIED:20200727T175129Z
UID:10005227-1682409600-1682614800@www.friendshipschools.org
SUMMARY:Self-paced Professional Development for Friendship Team Members
DESCRIPTION:
URL:https://www.friendshipschools.org/event/self-paced-professional-development-for-friendship-team-members/2023-04-25/
END:VEVENT
BEGIN:VEVENT
DTSTART;TZID=UTC:20230424T080000
DTEND;TZID=UTC:20230426T170000
DTSTAMP:20260424T031230
CREATED:20200721T202638Z
LAST-MODIFIED:20200727T175129Z
UID:10005226-1682323200-1682528400@www.friendshipschools.org
SUMMARY:Self-paced Professional Development for Friendship Team Members
DESCRIPTION:
URL:https://www.friendshipschools.org/event/self-paced-professional-development-for-friendship-team-members/2023-04-24/
END:VEVENT
BEGIN:VEVENT
DTSTART;TZID=UTC:20230423T080000
DTEND;TZID=UTC:20230425T170000
DTSTAMP:20260424T031230
CREATED:20200721T202638Z
LAST-MODIFIED:20200727T175129Z
UID:10005225-1682236800-1682442000@www.friendshipschools.org
SUMMARY:Self-paced Professional Development for Friendship Team Members
DESCRIPTION:
URL:https://www.friendshipschools.org/event/self-paced-professional-development-for-friendship-team-members/2023-04-23/
END:VEVENT
BEGIN:VEVENT
DTSTART;TZID=UTC:20230422T080000
DTEND;TZID=UTC:20230424T170000
DTSTAMP:20260424T031230
CREATED:20200721T202638Z
LAST-MODIFIED:20200727T175129Z
UID:10005224-1682150400-1682355600@www.friendshipschools.org
SUMMARY:Self-paced Professional Development for Friendship Team Members
DESCRIPTION:
URL:https://www.friendshipschools.org/event/self-paced-professional-development-for-friendship-team-members/2023-04-22/
END:VEVENT
END:VCALENDAR